BEGIN:VCALENDAR
VERSION:2.0
PRODID:icalendar-ruby
CALSCALE:GREGORIAN
METHOD:PUBLISH
BEGIN:VEVENT
DTSTAMP:20260419T160746Z
UID:5-330203@hbacja.org
DTSTART:20260517T173000Z
DTEND:20260517T183000Z
CLASS:PUBLIC
CREATED:20260302T180511
DESCRIPTION:Sunday Worship
LAST-MODIFIED:20260302T180511
LOCATION:
SUMMARY:Sunday Worship
URL;VALUE=URI:https://hbacja.org/events/sunday-worship/2026-05-17
END:VEVENT
END:VCALENDAR
