BEGIN:VCALENDAR
VERSION:2.0
PRODID:icalendar-ruby
CALSCALE:GREGORIAN
METHOD:PUBLISH
BEGIN:VEVENT
DTSTAMP:20260419T125040Z
UID:5-330201@hbacja.org
DTSTART:20260503T173000Z
DTEND:20260503T183000Z
CLASS:PUBLIC
CREATED:20260302T180511
DESCRIPTION:Sunday Worship
LAST-MODIFIED:20260302T180511
LOCATION:
SUMMARY:Sunday Worship
URL;VALUE=URI:https://hbacja.org/events/sunday-worship/2026-05-03
END:VEVENT
END:VCALENDAR
